BEGIN:VCALENDAR
VERSION:2.0
PRODID:-//Saheli - ECPv6.6.4.2//NONSGML v1.0//EN
CALSCALE:GREGORIAN
METHOD:PUBLISH
X-WR-CALNAME:Saheli
X-ORIGINAL-URL:https://saheliboston.org
X-WR-CALDESC:Events for Saheli
REFRESH-INTERVAL;VALUE=DURATION:PT1H
X-Robots-Tag:noindex
X-PUBLISHED-TTL:PT1H
BEGIN:VTIMEZONE
TZID:America/New_York
BEGIN:DAYLIGHT
TZOFFSETFROM:-0500
TZOFFSETTO:-0400
TZNAME:EDT
DTSTART:20200308T070000
END:DAYLIGHT
BEGIN:STANDARD
TZOFFSETFROM:-0400
TZOFFSETTO:-0500
TZNAME:EST
DTSTART:20201101T060000
END:STANDARD
END:VTIMEZONE
BEGIN:VEVENT
DTSTART;TZID=America/New_York:20201212T180000
DTEND;TZID=America/New_York:20201212T200000
DTSTAMP:20260420T102842
CREATED:20201124T190220Z
LAST-MODIFIED:20201124T190220Z
UID:5178-1607796000-1607803200@saheliboston.org
SUMMARY:Saheli Sur and Sangeet
DESCRIPTION:
URL:https://saheliboston.org/event/saheli-sur-and-sangeet/
ATTACH;FMTTYPE=image/jpeg:https://saheliboston.org/wp-content/uploads/2020/11/sur-and-sangee.jpg
END:VEVENT
BEGIN:VEVENT
DTSTART;TZID=America/New_York:20201210T173000
DTEND;TZID=America/New_York:20201210T190000
DTSTAMP:20260420T102842
CREATED:20201203T205152Z
LAST-MODIFIED:20201203T205152Z
UID:5183-1607621400-1607626800@saheliboston.org
SUMMARY:Trauma Informed Yoga for Survivors
DESCRIPTION:Join Anusuiya Bharadwaj\, a certified yoga instructor\, in a trauma-informed yoga session. For more information contact DV Program Manager Renu Tewarie at Renu@saheliboston.org
URL:https://saheliboston.org/event/trauma-informed-yoga-for-survivors-3/
END:VEVENT
BEGIN:VEVENT
DTSTART;TZID=America/New_York:20201208T103000
DTEND;TZID=America/New_York:20201208T123000
DTSTAMP:20260420T102842
CREATED:20201202T165438Z
LAST-MODIFIED:20201203T191711Z
UID:5180-1607423400-1607430600@saheliboston.org
SUMMARY:Immigration Legal Clinic
DESCRIPTION:Atty. Alka Mahajan will meet with survivors for a one-on-one consultation on immigration-related questions and concerns. For more information please contact DV Program Manager Renu Tewarie at renu@saheliboston.org
URL:https://saheliboston.org/event/immigration-legal-clinic/
END:VEVENT
BEGIN:VEVENT
DTSTART;TZID=America/New_York:20201203T173000
DTEND;TZID=America/New_York:20201203T190000
DTSTAMP:20260420T102842
CREATED:20201203T194039Z
LAST-MODIFIED:20201203T210159Z
UID:5182-1607016600-1607022000@saheliboston.org
SUMMARY:Building Relationships - Group
DESCRIPTION:Join Dr. Kalyani Krishnan\, a certified mental health professional\, for a group session on building healthy relationships. For more information contact DV Program Manager Renu Tewarie at Renu@saheliboston.org
URL:https://saheliboston.org/event/trauma-informed-yoga-for-survivors-2/
END:VEVENT
BEGIN:VEVENT
DTSTART;TZID=America/New_York:20201123T173000
DTEND;TZID=America/New_York:20201123T183000
DTSTAMP:20260420T102842
CREATED:20201013T211311Z
LAST-MODIFIED:20201105T232027Z
UID:5137-1606152600-1606156200@saheliboston.org
SUMMARY:English Language Virtual Sessions for Survivors
DESCRIPTION:Every Monday. Please contact Divya Chaturvedi at divya.chaturvedi@saheliboston.org for more information.
URL:https://saheliboston.org/event/english-language-virtual-sessions-for-survivors/
END:VEVENT
BEGIN:VEVENT
DTSTART;TZID=America/New_York:20201116T173000
DTEND;TZID=America/New_York:20201116T190000
DTSTAMP:20260420T102842
CREATED:20201104T200120Z
LAST-MODIFIED:20201104T200120Z
UID:5169-1605547800-1605553200@saheliboston.org
SUMMARY:Know Your Rights - Immigration
DESCRIPTION:
URL:https://saheliboston.org/event/know-your-rights-immigration/
END:VEVENT
BEGIN:VEVENT
DTSTART;TZID=America/New_York:20201105T173000
DTEND;TZID=America/New_York:20201112T190000
DTSTAMP:20260420T102842
CREATED:20201013T211200Z
LAST-MODIFIED:20201104T195953Z
UID:5136-1604597400-1605207600@saheliboston.org
SUMMARY:Trauma-informed Yoga for Survivors
DESCRIPTION:Every alternate Thursday. Please contact Renu Tewarie at renu@saheliboston.org for more information.
URL:https://saheliboston.org/event/trauma-informed-yoga-for-survivors/
END:VEVENT
BEGIN:VEVENT
DTSTART;TZID=America/New_York:20201022T173000
DTEND;TZID=America/New_York:20201022T190000
DTSTAMP:20260420T102842
CREATED:20201013T211657Z
LAST-MODIFIED:20201013T211754Z
UID:5138-1603387800-1603393200@saheliboston.org
SUMMARY:Volunteer Orientation
DESCRIPTION:Registration is required – https://us02web.zoom.us/meeting/register/tZckc-CprjMqGdCiVlt4d7ep7oJaCOVt4hK1
URL:https://saheliboston.org/event/volunteer-orientation-3/
ATTACH;FMTTYPE=image/jpeg:https://saheliboston.org/wp-content/uploads/2020/06/volunteer-orientation-e1593058773482.jpg
END:VEVENT
BEGIN:VEVENT
DTSTART;TZID=America/New_York:20201010T100000
DTEND;TZID=America/New_York:20201010T113000
DTSTAMP:20260420T102842
CREATED:20201005T195540Z
LAST-MODIFIED:20201005T195540Z
UID:5130-1602324000-1602329400@saheliboston.org
SUMMARY:Saheli Annual Meeting
DESCRIPTION:Join us for Sahel’s Annual Meeting. Registration required: https://us02web.zoom.us/meeting/register/tZwrfuCgqDoiGdCiQLG3Eecp1FP4rn_MhqTG
URL:https://saheliboston.org/event/saheli-annual-meeting/
ATTACH;FMTTYPE=image/png:https://saheliboston.org/wp-content/uploads/2020/10/Annualmeeting2020.png
END:VEVENT
BEGIN:VEVENT
DTSTART;TZID=America/New_York:20201001T180000
DTEND;TZID=America/New_York:20201001T190000
DTSTAMP:20260420T102842
CREATED:20200918T162227Z
LAST-MODIFIED:20200918T162638Z
UID:5127-1601575200-1601578800@saheliboston.org
SUMMARY:Domestic Violence Candlelight Vigil
DESCRIPTION:
URL:https://saheliboston.org/event/domestic-violence-candlelight-vigil/
ATTACH;FMTTYPE=image/jpeg:https://saheliboston.org/wp-content/uploads/2020/09/Domestic-Violence-Vigil_2020-1.jpg
END:VEVENT
BEGIN:VEVENT
DTSTART;TZID=America/New_York:20200925T173000
DTEND;TZID=America/New_York:20200925T190000
DTSTAMP:20260420T102842
CREATED:20200908T181115Z
LAST-MODIFIED:20200918T162915Z
UID:5126-1601055000-1601060400@saheliboston.org
SUMMARY:Volunteer Orientation - September
DESCRIPTION:Join Saheli staff for a volunteer orientation for a DV 101 and to learn more about Saheli’s work. Register here.
URL:https://saheliboston.org/event/volunteer-orientation-september/
ATTACH;FMTTYPE=image/jpeg:https://saheliboston.org/wp-content/uploads/2020/06/volunteer-orientation-e1593058773482.jpg
END:VEVENT
BEGIN:VEVENT
DTSTART;TZID=America/New_York:20200716T170000
DTEND;TZID=America/New_York:20200716T190000
DTSTAMP:20260420T102842
CREATED:20200625T041837Z
LAST-MODIFIED:20200625T041941Z
UID:5082-1594918800-1594926000@saheliboston.org
SUMMARY:Volunteer Orientation
DESCRIPTION:Join us for a volunteer orientation to learn about Saheli and its services. Register here.
URL:https://saheliboston.org/event/volunteer-orientation-2/
ATTACH;FMTTYPE=image/jpeg:https://saheliboston.org/wp-content/uploads/2020/06/volunteer-orientation-e1593058773482.jpg
END:VEVENT
BEGIN:VEVENT
DTSTART;TZID=America/New_York:20200714T180000
DTEND;TZID=America/New_York:20200714T190000
DTSTAMP:20260420T102842
CREATED:20200708T185908Z
LAST-MODIFIED:20200708T185908Z
UID:5098-1594749600-1594753200@saheliboston.org
SUMMARY:Saheli Community Connect - Parenting for Healthy Relationships
DESCRIPTION:Saheli is holding an online community connect led by Dr. Lionel Pereira for parents to learn how to strengthen the parent-child relationship\, how to talk to kids about difficult topics\, how to model positive behavior\, and how counseling can help kids \nDr. Lionel Pereira is a Staff Psychiatrist at Behavioral Health Services\, Lowell Community Health Center (LCHC) as well as a practicing psychiatrist\, New England Center for Healthy Minds\, Acton\, MA. Dr. Pereira has worked extensively with adults and children in Massachusetts. \nRegister here – https://bit.ly/3dR2Q4q
URL:https://saheliboston.org/event/saheli-community-connect-parenting-for-healthy-relationships/
ATTACH;FMTTYPE=image/jpeg:https://saheliboston.org/wp-content/uploads/2019/01/family-2.jpg
END:VEVENT
BEGIN:VEVENT
DTSTART;TZID=America/New_York:20200626T170000
DTEND;TZID=America/New_York:20200626T183000
DTSTAMP:20260420T102842
CREATED:20200624T031826Z
LAST-MODIFIED:20200624T034236Z
UID:5070-1593190800-1593196200@saheliboston.org
SUMMARY:Healthy Relationships 101
DESCRIPTION:Join us for a zoom conversation with other South Asian youth on boundaries\, consent and respect in relationships. \nRegister: https://bit.ly/3enQEck
URL:https://saheliboston.org/event/healthy-relationships-101/
ATTACH;FMTTYPE=image/gif:https://saheliboston.org/wp-content/uploads/2020/06/healthy-relationships-1.gif
END:VEVENT
BEGIN:VEVENT
DTSTART;TZID=America/New_York:20200619T170000
DTEND;TZID=America/New_York:20200619T190000
DTSTAMP:20260420T102842
CREATED:20200617T024533Z
LAST-MODIFIED:20200618T150335Z
UID:5061-1592586000-1592593200@saheliboston.org
SUMMARY:Volunteer Orientation
DESCRIPTION:Join us for a Saheli volunteer orientation to learn about Saheli’s services\, and about how you can get involved. The orientation will be held on Zoom. Register here in advance for this meeting.
URL:https://saheliboston.org/event/volunteer-orientation/
END:VEVENT
BEGIN:VEVENT
DTSTART;TZID=America/New_York:20200616T183000
DTEND;TZID=America/New_York:20200616T193000
DTSTAMP:20260420T102842
CREATED:20200606T154644Z
LAST-MODIFIED:20200613T162626Z
UID:5048-1592332200-1592335800@saheliboston.org
SUMMARY:A Conversation on Anti-Blackness
DESCRIPTION:Join Saheli and other community members for a discussion on racism\, and anti-black biases and prejudices within the South Asian community. Register here. \nhttps://bit.ly/2zajQEv \n 
URL:https://saheliboston.org/event/a-conversation-on-anti-blackness/
ATTACH;FMTTYPE=image/jpeg:https://saheliboston.org/wp-content/uploads/2020/06/conversationonanti-black.jpg
END:VEVENT
BEGIN:VEVENT
DTSTART;TZID=America/New_York:20200613T100000
DTEND;TZID=America/New_York:20200613T110000
DTSTAMP:20260420T102842
CREATED:20200603T192823Z
LAST-MODIFIED:20200605T135413Z
UID:5047-1592042400-1592046000@saheliboston.org
SUMMARY:Board Meeting
DESCRIPTION:
URL:https://saheliboston.org/event/board-meeting/
END:VEVENT
BEGIN:VEVENT
DTSTART;TZID=America/New_York:20200610T173000
DTEND;TZID=America/New_York:20200610T193000
DTSTAMP:20260420T102842
CREATED:20200507T151008Z
LAST-MODIFIED:20200613T142558Z
UID:4902-1591810200-1591817400@saheliboston.org
SUMMARY:Support Group
DESCRIPTION:Saheli is holding online support groups for South Asian and Middle Eastern survivors of domestic violence. If you would like to be a part of the Support Group please reach out Saheli’s DV Program Manager Renu Tewarie at renu@saheliboston.org.
URL:https://saheliboston.org/event/support-group/
ATTACH;FMTTYPE=image/jpeg:https://saheliboston.org/wp-content/uploads/2020/05/blur-blurred-background-close-up-1154757-scaled.jpg
END:VEVENT
BEGIN:VEVENT
DTSTART;TZID=America/New_York:20200529T170000
DTEND;TZID=America/New_York:20200529T180000
DTSTAMP:20260420T102842
CREATED:20200523T212318Z
LAST-MODIFIED:20200523T225540Z
UID:5010-1590771600-1590775200@saheliboston.org
SUMMARY:Mental Health Awareness
DESCRIPTION:Please join other South Asian youth for an open conversation on Mental Health in a safe and non-judgemental space. Register at: https://bit.ly/2WXAwYY \nContact Priya at priya.murali@saheliboston.org for any information.
URL:https://saheliboston.org/event/mental-health-awareness/
ATTACH;FMTTYPE=image/png:https://saheliboston.org/wp-content/uploads/2020/05/Mental-Health-Awareness_1-e1590273726246.png
END:VEVENT
BEGIN:VEVENT
DTSTART;TZID=America/New_York:20200505T160000
DTEND;TZID=America/New_York:20200505T170000
DTSTAMP:20260420T102842
CREATED:20200413T054905Z
LAST-MODIFIED:20200505T183524Z
UID:4742-1588694400-1588698000@saheliboston.org
SUMMARY:COVID 19: Impact on Immigration
DESCRIPTION:Saheli invites you to a panel discussion with immigration attorneys Trupti Patel and Alka Mahajan to discuss how Covid-19 is affecting immigration. They will answer questions on  H1B\, H4 EADs\, public charge\, student visas\, Green Card\, and other immigration challenges. \nRegister at: https://bit.ly/2W0w37r
URL:https://saheliboston.org/event/test-event/
ATTACH;FMTTYPE=image/jpeg:https://saheliboston.org/wp-content/uploads/2020/04/joseph-chan-Q-730ajUcQ-unsplash-scaled-e1588703707585.jpg
END:VEVENT
END:VCALENDAR